BEGIN:VCALENDAR
VERSION:2.0
CALSCALE:GREGORIAN
PRODID:-//Diputació de Barcelona//DibaCMS//EN
BEGIN:VEVENT
UID:6494
DTSTAMP:20260422T214639
DTSTART:20221031T000000
DTEND:20221031T000000
SUMMARY:Castanyada 2022
LOCATION:
METHOD:PUBLISH
X-WR-CALNAME:ajuntament@montmelo.cat
X-WR-TIMEZONE:Europe/Madrid
DESCRIPTION:
URI:
CLASS:PUBLIC
END:VEVENT
END:VCALENDAR
