BEGIN:VCALENDAR
VERSION:2.0
CALSCALE:GREGORIAN
PRODID:-//Diputació de Barcelona//DibaCMS//EN
BEGIN:VEVENT
UID:6478
DTSTAMP:20260424T135711
DTSTART:20221007T000000
DTEND:20221007T000000
SUMMARY:La Medicina a les guerres Napoleòniques
LOCATION:
METHOD:PUBLISH
X-WR-CALNAME:ajuntament@montmelo.cat
X-WR-TIMEZONE:Europe/Madrid
DESCRIPTION:
URI:
CLASS:PUBLIC
END:VEVENT
END:VCALENDAR
