BEGIN:VCALENDAR
VERSION:2.0
CALSCALE:GREGORIAN
PRODID:-//Diputació de Barcelona//DibaCMS//EN
BEGIN:VEVENT
UID:12869
DTSTAMP:20260424T043617
DTSTART:20260425T110000
DTEND:20260425T123000
SUMMARY:Un castell de primera • L’hora menuda
LOCATION:Francesc Macià, 11 08160 Montmeló
METHOD:PUBLISH
X-WR-CALNAME:ajuntament@montmelo.cat
X-WR-TIMEZONE:Europe/Madrid
DESCRIPTION:11.00 h • Biblioteca Municipal La Grua

URI:
CLASS:PUBLIC
END:VEVENT
END:VCALENDAR
