BEGIN:VCALENDAR
VERSION:2.0
CALSCALE:GREGORIAN
PRODID:-//Diputació de Barcelona//DibaCMS//EN
BEGIN:VEVENT
UID:12868
DTSTAMP:20260424T060348
DTSTART:20260425T090000
DTEND:20260425T140000
SUMMARY:Campionat de Catalunya de Clubs de Karate
LOCATION:Dr. Ferran, s/n 08160 Montmeló
METHOD:PUBLISH
X-WR-CALNAME:ajuntament@montmelo.cat
X-WR-TIMEZONE:Europe/Madrid
DESCRIPTION:09.00 h • Pavelló Municipal

URI:
CLASS:PUBLIC
END:VEVENT
END:VCALENDAR
