BEGIN:VCALENDAR
VERSION:2.0
CALSCALE:GREGORIAN
PRODID:-//Diputació de Barcelona//DibaCMS//EN
BEGIN:VEVENT
UID:12867
DTSTAMP:20260424T060359
DTSTART:20260424T190000
DTEND:20260424T200000
SUMMARY:Lliurament de premis del 24è Concurs de Punts de Llibre
LOCATION:Francesc Macià, 11 08160 Montmeló
METHOD:PUBLISH
X-WR-CALNAME:ajuntament@montmelo.cat
X-WR-TIMEZONE:Europe/Madrid
DESCRIPTION:19.00 h •  Biblioteca Municipal La Grua

URI:
CLASS:PUBLIC
END:VEVENT
END:VCALENDAR
