BEGIN:VCALENDAR
VERSION:2.0
CALSCALE:GREGORIAN
PRODID:-//Diputació de Barcelona//DibaCMS//EN
BEGIN:VEVENT
UID:12866
DTSTAMP:20260424T043852
DTSTART:20260424T171500
DTEND:20260424T190000
SUMMARY:El viatge de la Majaliwa • L’hora del conte
LOCATION:Francesc Macià, 11 08160 Montmeló
METHOD:PUBLISH
X-WR-CALNAME:ajuntament@montmelo.cat
X-WR-TIMEZONE:Europe/Madrid
DESCRIPTION:17.15 h • Biblioteca Municipal La Grua

URI:
CLASS:PUBLIC
END:VEVENT
END:VCALENDAR
