BEGIN:VCALENDAR
VERSION:2.0
CALSCALE:GREGORIAN
PRODID:-//Diputació de Barcelona//DibaCMS//EN
BEGIN:VEVENT
UID:12862
DTSTAMP:20260420T044253
DTSTART:20260423T090000
DTEND:20260423T200000
SUMMARY:Diada de Sant Jordi 2026
LOCATION:
METHOD:PUBLISH
X-WR-CALNAME:ajuntament@montmelo.cat
X-WR-TIMEZONE:Europe/Madrid
DESCRIPTION:09.00 h • Centre de la vila

URI:
CLASS:PUBLIC
END:VEVENT
END:VCALENDAR
