BEGIN:VCALENDAR
VERSION:2.0
CALSCALE:GREGORIAN
PRODID:-//Diputació de Barcelona//DibaCMS//EN
BEGIN:VEVENT
UID:12555
DTSTAMP:20260426T022337
DTSTART:20260125T170000
DTEND:20260125T190000
SUMMARY:Improshow kids. Planeta Impro | Xarxa
LOCATION:Folch i Torras, s/n 08160 Montmeló
METHOD:PUBLISH
X-WR-CALNAME:ajuntament@montmelo.cat
X-WR-TIMEZONE:Europe/Madrid
DESCRIPTION: 17.00 h | Sala Polivalent la Torreta

URI:
CLASS:PUBLIC
END:VEVENT
END:VCALENDAR
