BEGIN:VCALENDAR
VERSION:2.0
CALSCALE:GREGORIAN
PRODID:-//Diputació de Barcelona//DibaCMS//EN
BEGIN:VEVENT
UID:12554
DTSTAMP:20260426T025538
DTSTART:20260123T180000
DTEND:20260123T200000
SUMMARY:Zog i els doctors voladors | CineXic
LOCATION:Folch i Torras, s/n 08160 Montmeló
METHOD:PUBLISH
X-WR-CALNAME:ajuntament@montmelo.cat
X-WR-TIMEZONE:Europe/Madrid
DESCRIPTION: 18.00 h | Sala Polivalent la Torreta

URI:
CLASS:PUBLIC
END:VEVENT
END:VCALENDAR
