BEGIN:VCALENDAR
VERSION:2.0
CALSCALE:GREGORIAN
PRODID:-//Diputació de Barcelona//DibaCMS//EN
BEGIN:VEVENT
UID:12547
DTSTAMP:20260426T035350
DTSTART:20260124T193000
DTEND:20260124T213000
SUMMARY:Non Solum | Setze fetges associats
LOCATION:Folch i Torras, s/n 08160 Montmeló
METHOD:PUBLISH
X-WR-CALNAME:ajuntament@montmelo.cat
X-WR-TIMEZONE:Europe/Madrid
DESCRIPTION: 19.30 h | Sala Polivalent la Torreta

URI:
CLASS:PUBLIC
END:VEVENT
END:VCALENDAR
