BEGIN:VCALENDAR
VERSION:2.0
CALSCALE:GREGORIAN
PRODID:-//Diputació de Barcelona//DibaCMS//EN
BEGIN:VEVENT
UID:11683
DTSTAMP:20260421T144614
DTSTART:20250228T171500
DTEND:20250228T183000
SUMMARY:Allà on viuen els monstres | L'hora del conte
LOCATION:Francesc Macià, 11 08160 Montmeló
METHOD:PUBLISH
X-WR-CALNAME:ajuntament@montmelo.cat
X-WR-TIMEZONE:Europe/Madrid
DESCRIPTION:17.15 h | Biblioteca Municipal La Grua

URI:
CLASS:PUBLIC
END:VEVENT
END:VCALENDAR
