BEGIN:VCALENDAR
VERSION:2.0
CALSCALE:GREGORIAN
PRODID:-//Diputació de Barcelona//DibaCMS//EN
BEGIN:VEVENT
UID:11537
DTSTAMP:20260421T063854
DTSTART:20241229T163000
DTEND:20241229T213000
SUMMARY:Festa de Nadal Jove
LOCATION:Miquel Biada, s/n 08160 Montmeló
METHOD:PUBLISH
X-WR-CALNAME:ajuntament@montmelo.cat
X-WR-TIMEZONE:Europe/Madrid
DESCRIPTION:16:30 h | Estació Jove

URI:
CLASS:PUBLIC
END:VEVENT
END:VCALENDAR
