BEGIN:VCALENDAR
VERSION:2.0
CALSCALE:GREGORIAN
PRODID:-//Diputació de Barcelona//DibaCMS//EN
BEGIN:VEVENT
UID:11102
DTSTAMP:20260422T095424
DTSTART:20240704T000000
DTEND:20240728T230000
SUMMARY:Estiu Jove a l'Estació
LOCATION:Miquel Biada, s/n 08160 Montmeló
METHOD:PUBLISH
X-WR-CALNAME:ajuntament@montmelo.cat
X-WR-TIMEZONE:Europe/Madrid
DESCRIPTION:Del 3 al 28 de juliol | Estació Jove

URI:
CLASS:PUBLIC
END:VEVENT
END:VCALENDAR
