BEGIN:VCALENDAR
VERSION:2.0
CALSCALE:GREGORIAN
PRODID:-//Diputació de Barcelona//DibaCMS//EN
BEGIN:VEVENT
UID:10308
DTSTAMP:20260426T042419
DTSTART:20231117T193000
DTEND:20231117T213000
SUMMARY:Quiero ser la protagonista de mi vida | Hellen Bold
LOCATION:Francesc Macià, 11 08160 Montmeló
METHOD:PUBLISH
X-WR-CALNAME:ajuntament@montmelo.cat
X-WR-TIMEZONE:Europe/Madrid
DESCRIPTION:19.30 h | Museu

URI:
CLASS:PUBLIC
END:VEVENT
END:VCALENDAR
