BEGIN:VCALENDAR
VERSION:2.0
CALSCALE:GREGORIAN
PRODID:-//Diputació de Barcelona//DibaCMS//EN
BEGIN:VEVENT
UID:10131
DTSTAMP:20260419T143250
DTSTART:20250927T090000
DTEND:20250927T150000
SUMMARY:XXV Torneig Isidre Vendrell
LOCATION:Folch i Torras, 4 08160 Montmeló
METHOD:PUBLISH
X-WR-CALNAME:ajuntament@montmelo.cat
X-WR-TIMEZONE:Europe/Madrid
DESCRIPTION:09.00 h | Camp Municipal de Futbol

URI:
CLASS:PUBLIC
END:VEVENT
END:VCALENDAR
